BEGIN:VCALENDAR
VERSION:2.0
PRODID:-//Compliance Certifica - ECPv6.3.7//NONSGML v1.0//EN
CALSCALE:GREGORIAN
METHOD:PUBLISH
X-ORIGINAL-URL:https://www.compliancecertifica.com
X-WR-CALDESC:Eventos para Compliance Certifica
REFRESH-INTERVAL;VALUE=DURATION:PT1H
X-Robots-Tag:noindex
X-PUBLISHED-TTL:PT1H
BEGIN:VTIMEZONE
TZID:Europe/Madrid
BEGIN:DAYLIGHT
TZOFFSETFROM:+0100
TZOFFSETTO:+0200
TZNAME:CEST
DTSTART:20200329T010000
END:DAYLIGHT
BEGIN:STANDARD
TZOFFSETFROM:+0200
TZOFFSETTO:+0100
TZNAME:CET
DTSTART:20201025T010000
END:STANDARD
END:VTIMEZONE
BEGIN:VEVENT
DTSTART;TZID=Europe/Madrid:20201124T103000
DTEND;TZID=Europe/Madrid:20201124T133000
DTSTAMP:20260420T083208
CREATED:20201009T081950Z
LAST-MODIFIED:20210709T095014Z
UID:1697-1606213800-1606224600@www.compliancecertifica.com
SUMMARY:SUSPENDIDA
DESCRIPTION:ASESOR FISCAL
URL:https://www.compliancecertifica.com/convocatoria/af-4/
LOCATION:Madrid\, Madrid\, Madrid\, España
CATEGORIES:AF
ORGANIZER;CN="Compliance Certifica":MAILTO:info@compliancecertifica.com
END:VEVENT
BEGIN:VEVENT
DTSTART;TZID=Europe/Madrid:20201124T103000
DTEND;TZID=Europe/Madrid:20201124T133000
DTSTAMP:20260420T083208
CREATED:20201009T083004Z
LAST-MODIFIED:20210709T095006Z
UID:1699-1606213800-1606224600@www.compliancecertifica.com
SUMMARY:SUSPENDIDA
DESCRIPTION:RESPONSABLE CONTRATACIÓN PÚBLICA
URL:https://www.compliancecertifica.com/convocatoria/rcp-6/
LOCATION:Madrid\, Madrid\, Madrid\, España
CATEGORIES:RCP
ORGANIZER;CN="Compliance Certifica":MAILTO:info@compliancecertifica.com
END:VEVENT
BEGIN:VEVENT
DTSTART;TZID=Europe/Madrid:20201124T160000
DTEND;TZID=Europe/Madrid:20201124T190000
DTSTAMP:20260420T083208
CREATED:20201009T083252Z
LAST-MODIFIED:20210709T095000Z
UID:1701-1606233600-1606244400@www.compliancecertifica.com
SUMMARY:SUSPENDIDA
DESCRIPTION:RESPONSABLE DE BUENAS PRACTICAS TRIBUTARIAS
URL:https://www.compliancecertifica.com/convocatoria/rbpt-6/
LOCATION:Madrid\, Madrid\, Madrid\, España
CATEGORIES:RBPT
ORGANIZER;CN="Compliance Certifica":MAILTO:info@compliancecertifica.com
END:VEVENT
BEGIN:VEVENT
DTSTART;TZID=Europe/Madrid:20201126T103000
DTEND;TZID=Europe/Madrid:20201126T133000
DTSTAMP:20260420T083208
CREATED:20201009T084506Z
LAST-MODIFIED:20210709T094952Z
UID:1703-1606386600-1606397400@www.compliancecertifica.com
SUMMARY:SUSPENDIDA
DESCRIPTION:ASESOR  FISCAL
URL:https://www.compliancecertifica.com/convocatoria/af-5/
LOCATION:Madrid\, Madrid\, Madrid\, España
CATEGORIES:AF
ORGANIZER;CN="Compliance Certifica":MAILTO:info@compliancecertifica.com
END:VEVENT
BEGIN:VEVENT
DTSTART;TZID=Europe/Madrid:20201126T103000
DTEND;TZID=Europe/Madrid:20201126T133000
DTSTAMP:20260420T083208
CREATED:20201009T084925Z
LAST-MODIFIED:20210709T094947Z
UID:1705-1606386600-1606397400@www.compliancecertifica.com
SUMMARY:SUSPENDIDA
DESCRIPTION:RESPONSABLE CONTRATACIÓN PÚBLICA
URL:https://www.compliancecertifica.com/convocatoria/rcp-7/
LOCATION:Madrid\, Madrid\, Madrid\, España
CATEGORIES:RCP
ORGANIZER;CN="Compliance Certifica":MAILTO:info@compliancecertifica.com
END:VEVENT
BEGIN:VEVENT
DTSTART;TZID=Europe/Madrid:20201126T160000
DTEND;TZID=Europe/Madrid:20201126T190000
DTSTAMP:20260420T083208
CREATED:20201009T085127Z
LAST-MODIFIED:20210709T094944Z
UID:1707-1606406400-1606417200@www.compliancecertifica.com
SUMMARY:SUSPENDIDA
DESCRIPTION:RESPONSABLE DE BUENAS PRÁCTICAS TRIBUTARIAS
URL:https://www.compliancecertifica.com/convocatoria/rbpt-7/
LOCATION:Madrid\, Madrid\, Madrid\, España
CATEGORIES:RBPT
ORGANIZER;CN="Compliance Certifica":MAILTO:info@compliancecertifica.com
END:VEVENT
END:VCALENDAR