BEGIN:VCALENDAR
VERSION:2.0
PRODID:-//Compliance Certifica - ECPv6.3.7//NONSGML v1.0//EN
CALSCALE:GREGORIAN
METHOD:PUBLISH
X-WR-CALNAME:Compliance Certifica
X-ORIGINAL-URL:https://www.compliancecertifica.com
X-WR-CALDESC:Eventos para Compliance Certifica
REFRESH-INTERVAL;VALUE=DURATION:PT1H
X-Robots-Tag:noindex
X-PUBLISHED-TTL:PT1H
BEGIN:VTIMEZONE
TZID:Europe/Madrid
BEGIN:DAYLIGHT
TZOFFSETFROM:+0100
TZOFFSETTO:+0200
TZNAME:CEST
DTSTART:20210328T010000
END:DAYLIGHT
BEGIN:STANDARD
TZOFFSETFROM:+0200
TZOFFSETTO:+0100
TZNAME:CET
DTSTART:20211031T010000
END:STANDARD
END:VTIMEZONE
BEGIN:VEVENT
DTSTART;TZID=Europe/Madrid:20210714T103000
DTEND;TZID=Europe/Madrid:20210714T113000
DTSTAMP:20260421T141350
CREATED:20210526T112515Z
LAST-MODIFIED:20210709T094125Z
UID:3469-1626258600-1626262200@www.compliancecertifica.com
SUMMARY:CSM
DESCRIPTION:CONSEJERO DE SOCIEDADES MERCANTILES
URL:https://www.compliancecertifica.com/convocatoria/csm-8/
LOCATION:ONLINE
CATEGORIES:CSM
ORGANIZER;CN="Compliance Certifica":MAILTO:info@compliancecertifica.com
END:VEVENT
END:VCALENDAR