BEGIN:VCALENDAR
VERSION:2.0
PRODID:-//Compliance Certifica - ECPv6.3.7//NONSGML v1.0//EN
CALSCALE:GREGORIAN
METHOD:PUBLISH
X-ORIGINAL-URL:https://www.compliancecertifica.com
X-WR-CALDESC:Eventos para Compliance Certifica
REFRESH-INTERVAL;VALUE=DURATION:PT1H
X-Robots-Tag:noindex
X-PUBLISHED-TTL:PT1H
BEGIN:VTIMEZONE
TZID:Europe/Madrid
BEGIN:DAYLIGHT
TZOFFSETFROM:+0100
TZOFFSETTO:+0200
TZNAME:CEST
DTSTART:20200329T010000
END:DAYLIGHT
BEGIN:STANDARD
TZOFFSETFROM:+0200
TZOFFSETTO:+0100
TZNAME:CET
DTSTART:20201025T010000
END:STANDARD
END:VTIMEZONE
BEGIN:VEVENT
DTSTART;TZID=Europe/Madrid:20201001T103000
DTEND;TZID=Europe/Madrid:20201001T123000
DTSTAMP:20260422T035500
CREATED:20200901T153301Z
LAST-MODIFIED:20210709T095152Z
UID:1609-1601548200-1601555400@www.compliancecertifica.com
SUMMARY:CSM
DESCRIPTION:Certificación – Consejeros de Sociedades Mercantiles
URL:https://www.compliancecertifica.com/convocatoria/csm/
LOCATION:Madrid\, Madrid\, Madrid\, España
CATEGORIES:CSM
ORGANIZER;CN="Compliance Certifica":MAILTO:info@compliancecertifica.com
END:VEVENT
BEGIN:VEVENT
DTSTART;TZID=Europe/Madrid:20201008T103000
DTEND;TZID=Europe/Madrid:20201008T123000
DTSTAMP:20260422T035500
CREATED:20200924T173140Z
LAST-MODIFIED:20210709T095144Z
UID:1634-1602153000-1602160200@www.compliancecertifica.com
SUMMARY:CSM
DESCRIPTION:Certificación – Consejeros de Sociedades Mercantiles
URL:https://www.compliancecertifica.com/convocatoria/csm-2/
LOCATION:Madrid\, Madrid\, Madrid\, España
CATEGORIES:CSM
ORGANIZER;CN="Compliance Certifica":MAILTO:info@compliancecertifica.com
END:VEVENT
BEGIN:VEVENT
DTSTART;TZID=Europe/Madrid:20201016T103000
DTEND;TZID=Europe/Madrid:20201016T123000
DTSTAMP:20260422T035500
CREATED:20201006T061800Z
LAST-MODIFIED:20210709T095139Z
UID:1648-1602844200-1602851400@www.compliancecertifica.com
SUMMARY:CSM
DESCRIPTION:Certificación – Consejeros de Sociedades Mercantiles
URL:https://www.compliancecertifica.com/convocatoria/csm-3/
LOCATION:Madrid\, Madrid\, Madrid\, España
CATEGORIES:CSM
ORGANIZER;CN="Compliance Certifica":MAILTO:info@compliancecertifica.com
END:VEVENT
BEGIN:VEVENT
DTSTART;TZID=Europe/Madrid:20201023T103000
DTEND;TZID=Europe/Madrid:20201023T120000
DTSTAMP:20260422T035500
CREATED:20201006T071234Z
LAST-MODIFIED:20210709T095132Z
UID:1653-1603449000-1603454400@www.compliancecertifica.com
SUMMARY:CSM
DESCRIPTION:Certificación – Consejeros de Sociedades Mercantiles
URL:https://www.compliancecertifica.com/convocatoria/csm-4/
LOCATION:Madrid\, Madrid\, Madrid\, España
CATEGORIES:CSM
ORGANIZER;CN="Compliance Certifica":MAILTO:info@compliancecertifica.com
END:VEVENT
END:VCALENDAR